BEGIN:VCALENDAR
VERSION:2.0
PRODID:-//Let&#039;s Talk Humanity Initiative - ECPv6.15.20//NONSGML v1.0//EN
CALSCALE:GREGORIAN
METHOD:PUBLISH
X-WR-CALNAME:Let&#039;s Talk Humanity Initiative
X-ORIGINAL-URL:https://letstalkhumanityinitiative.org
X-WR-CALDESC:Events for Let&#039;s Talk Humanity Initiative
REFRESH-INTERVAL;VALUE=DURATION:PT1H
X-Robots-Tag:noindex
X-PUBLISHED-TTL:PT1H
BEGIN:VTIMEZONE
TZID:UTC
BEGIN:STANDARD
TZOFFSETFROM:+0000
TZOFFSETTO:+0000
TZNAME:UTC
DTSTART:20240101T000000
END:STANDARD
END:VTIMEZONE
BEGIN:VEVENT
DTSTART;TZID=UTC:20250506T080000
DTEND;TZID=UTC:20250506T170000
DTSTAMP:20260423T164039
CREATED:20240403T054504Z
LAST-MODIFIED:20260422T120808Z
UID:5670-1746518400-1746550800@letstalkhumanityinitiative.org
SUMMARY:Documentary Premiere
DESCRIPTION:10 Years. One Story.                \n            \n                            \n                A decade of impact. A future of inclusion.            \n                            \n                This documentary premiere marks a decade of transformative work by Let’s Talk Humanity Initiative in advancing inclusive education and empowering persons with disabilities.\n\nThrough real stories\, lived experiences\, and powerful insights\, this event highlights how technology is bridging the gap between disability and opportunity.             \n            \n\n				\n				\n				\n				\n							\n			\n		\n						\n				\n				\n				\n									\n					\n						\n									Join Live on Zoom\n					\n					\n				\n								\n				\n				\n				\n							\n			\n		\n						\n				\n				\n				\n																														\n				\n				\n				\n					 \n\n                        \n                                \n                    What to Expect                \n            \n                            \n\n				\n				\n				\n				\n									Screening of LTHI’s 10-year documentaryConversations on inclusive education and technologyStakeholder engagement (government\, NGOs\, private sector)Networking opportunitiesInsights into future initiatives								\n				\n				\n				\n					 \n\n                        \n                                \n                    Who Should Attend                \n            \n                            \n\n				\n				\n				\n				\n									Development partnersGovernment stakeholdersNGOs and advocacy groupsEducators and institutionsCorporate organizations (CSR teams)Anyone passionate about inclusion								\n				\n				\n				\n					 \n\n                        \n                                \n                    Who Should Attend                \n            \n                            \n\n				\n				\n				\n				\n									Contact: +234 708 149 3276								\n				\n				\n				\n							\n			\n		\n						\n				\n				\n				\n									Be part of a powerful conversation on inclusion\, innovation\, and the future of accessible education in Nigeria. Seats are limited for physical attendance. Secure your spot or join virtually.
URL:https://letstalkhumanityinitiative.org/event/documentary-premiere/
LOCATION:Vineyard Venues\, 5396 North Reese Avenue\, Fresno CA 93722\, Fresno CA\, CA\, 93722\, United States
CATEGORIES:Donation,Education Event
ORGANIZER;CN="John Richard":MAILTO:johnrich@gmail.com
END:VEVENT
END:VCALENDAR